BEGIN:VCALENDAR
VERSION:2.0
PRODID:-//Wheatbelt Health Professional Network - ECPv6.15.20//NONSGML v1.0//EN
CALSCALE:GREGORIAN
METHOD:PUBLISH
X-ORIGINAL-URL:https://wbhpn.com.au
X-WR-CALDESC:Events for Wheatbelt Health Professional Network
REFRESH-INTERVAL;VALUE=DURATION:PT1H
X-Robots-Tag:noindex
X-PUBLISHED-TTL:PT1H
BEGIN:VTIMEZONE
TZID:Australia/Perth
BEGIN:STANDARD
TZOFFSETFROM:+0800
TZOFFSETTO:+0800
TZNAME:AWST
DTSTART:20230101T000000
END:STANDARD
END:VTIMEZONE
BEGIN:VEVENT
DTSTART;TZID=Australia/Perth:20260225T173000
DTEND;TZID=Australia/Perth:20260225T193000
DTSTAMP:20260426T011253
CREATED:20260113T082518Z
LAST-MODIFIED:20260113T082518Z
UID:10000632-1772040600-1772047800@wbhpn.com.au
SUMMARY:WELCOME TO 2026 SUNDOWNER NARROGIN
DESCRIPTION:Wednesday 25 February 2026 | 5.30pm–7.30pm\nLight refreshments provided. Places are limited. (THIS IS A TICKETED EVENT).\nNarrogin Nursery\, Cafe & Gallery\, 32 Federal Street\, Narrogin\nRegistrations are essential\, visit:\nruralhealthwest.eventsair.com/wbhpn250226n- \nThe Wheatbelt Health Professionals Network invites our health professionals to our\nwelcome to 2026 networking event. Come down with the family and enjoy a relaxed\nevening with some light refreshments and catch up with colleagues and friends after the\nholiday season. \n  \n 
URL:https://wbhpn.com.au/event/https-ruralhealthwest-eventsair-com-wbhpn250226n-nar-reg-site-register/
CATEGORIES:Health
ATTACH;FMTTYPE=image/png:https://wbhpn.com.au/wp-content/uploads/2026/01/WBHPN_Narrogin_Welcome_2026-25Feb26_FB_event_image_430x225px.png
END:VEVENT
BEGIN:VEVENT
DTSTART;TZID=Australia/Perth:20260212T090000
DTEND;TZID=Australia/Perth:20260212T150000
DTSTAMP:20260426T011253
CREATED:20260113T083408Z
LAST-MODIFIED:20260113T083408Z
UID:10000634-1770886800-1770908400@wbhpn.com.au
SUMMARY:WOUND CARE WORKSHOP JURIEN BAY
DESCRIPTION:Thursday 12 February 2026 | 9.00am–3.00pm\nLIMITED PLACES. Morning tea and lunch will be provided. (THIS IS A TICKETED EVENT).\nCost: $70 full day\nRegistrations open at 8.45am\nStart 9.00am\, finishing at 3.00pm\nJurien Bay Health Campus (Conference room)\, 23 Whitfield Road\, Jurien Bay\nRegistrations are essential\, visit: https://ruralhealthwest.eventsair.com/wbhpn120226e-jb/reg/Site/Register \nPresented by Beth Sperring\, Clinical Nurse Consultant. Topics for the study day will include wound\nhealing and assessment; identification of acute and chronic wound infection and treatment; biofilm based\nwound management; wound hygiene; dressing selection; traumatic wounds; plastic surgery considerations; and\ncase studies. Also discussed will be future trends in wound management. This workshop will include a wound\ndebridement session at the end of the day.
URL:https://wbhpn.com.au/event/wound-care-workshop-jurien-bay/
LOCATION:Jurien Bay Health Campus\, Jurien Bay\, WA\, Australia
CATEGORIES:Health
ATTACH;FMTTYPE=image/png:https://wbhpn.com.au/wp-content/uploads/2026/01/WBHPN_Wound_Care-Jurien_Bay-4Dec_FB_event_image_430x225px.png
END:VEVENT
BEGIN:VEVENT
DTSTART;TZID=Australia/Perth:20260211T173000
DTEND;TZID=Australia/Perth:20260211T193000
DTSTAMP:20260426T011253
CREATED:20260113T082849Z
LAST-MODIFIED:20260113T082849Z
UID:10000633-1770831000-1770838200@wbhpn.com.au
SUMMARY:WELCOME TO 2026 SUNDOWNER NORTHAM
DESCRIPTION:Wednesday 11 February 2026 | 5.30pm–7.30pm\nLight refreshments provided. Places are limited. (THIS IS A TICKETED EVENT).\nNortham Country Club\, 15 Wood Drive\, Northam\nRegistrations are essential\, visit:\nruralhealthwest.eventsair.com/wbhpn110226n-nor/reg \nThe Wheatbelt Health Professionals Network invites our health practitioners to our welcome\nto 2026 networking event. Come down with the family and enjoy a relaxed evening with\nsome light refreshments and catch up with colleagues and friends after the holiday season.
URL:https://wbhpn.com.au/event/welcome-to-2026-sundowner-northam/
LOCATION:Northam Country Club\, 15 Wood Drive\, Northam\, WA\, 6401\, Australia
CATEGORIES:Health
ATTACH;FMTTYPE=image/png:https://wbhpn.com.au/wp-content/uploads/2026/01/WBHPN_Northam_Welcome_2026-11Feb26_FB_event_image_430x225px.png
END:VEVENT
BEGIN:VEVENT
DTSTART;TZID=Australia/Perth:20250902T173000
DTEND;TZID=Australia/Perth:20250902T193000
DTSTAMP:20260426T011253
CREATED:20250826T055735Z
LAST-MODIFIED:20250826T055735Z
UID:10000630-1756834200-1756841400@wbhpn.com.au
SUMMARY:Stoma and Wound Care Workshop Narrogin
DESCRIPTION:STOMA AND WOUND CARE WORKSHOP NARROGIN\nPRESENTED BY STOMAL THERAPY NURSE TANIA NORMAN \nTuesday 2 September 2025 | 5.30pm–7.30pm\nFalcon Street Training Facility\, Falcon Street (near the corner of Floreat Street)\, Narrogin\nLimited places. Light refreshments provided. (THIS IS A TICKETED EVENT).\nRegistrations are essential\, visit:\nruralhealthwest.eventsair.com/wbhpn020925e-nar/reg \nThis workshop is hosted by the Wheatbelt Health Professionals Network and supported by Western\nAustralian Ostomy Association Incorporated and Bowel & Stoma Health WA. We invite health\nprofessionals to attend this workshop which is presented by Tania Norman.\nThis event is FREE for all members of the Wheatbelt Health Professionals Network – Visit\nwbhpn.com.au/network to join as a member (membership is free). For more information\, please\nemail WBHPN Regional Program co-ordinator Anna McPhee at anna.mcphee@wbhpn.com.au
URL:https://wbhpn.com.au/event/stoma-and-wound-care-workshop-narrogin/
LOCATION:Falcon Street Training Facility\, Narrogin Health Service - Falcon Street (near corner Floreat Street)\, Narrogin\, WA\, Australia
CATEGORIES:Health
ATTACH;FMTTYPE=image/png:https://wbhpn.com.au/wp-content/uploads/2025/08/WBHPN_Stoma_Wound_Care_Narrogin-2Sept_EA_website_header_640px.png
END:VEVENT
BEGIN:VEVENT
DTSTART;TZID=Australia/Perth:20250514T071500
DTEND;TZID=Australia/Perth:20250514T083000
DTSTAMP:20260426T011253
CREATED:20250506T054450Z
LAST-MODIFIED:20250506T054450Z
UID:10000616-1747206900-1747211400@wbhpn.com.au
SUMMARY:MOORA CONCUSSION UPDATE Understanding\, managing and preventing it
DESCRIPTION:Register today to gain valuable insights and expand your understanding of concussions with\nDr Gill Cowen.\nLearn how to recognise the signs and symptoms as well as the importance of managing\nmild brain injuries promptly\, safely\, and appropriately. This education event will discuss the\noccurrence of concussion in sports as well as those resulting from falls\, road traffic incidents\nand physical assaults.\nThe Wheatbelt Health Professionals Network invite health professionals from Moora and\nsurrounds to an educational event at Jeanne d’Moore Café in Moora.\nThis event is FREE for all members of the Wheatbelt Health Professionals Network – Visit\nwbhpn.com.au/network to join as a member (membership is free). For more information\, please email\nWBHPN Regional Program Coordinator Anna McPhee at anna.mcphee@wbhpn.com.au
URL:https://wbhpn.com.au/event/moora-concussion-update-understanding-managing-and-preventing-it/
CATEGORIES:Health
ATTACH;FMTTYPE=image/png:https://wbhpn.com.au/wp-content/uploads/2025/05/WBHPN-Concussion-Update-Moora-May-2025-FACEBOOK-EVENT-430px.png
END:VEVENT
BEGIN:VEVENT
DTSTART;TZID=Australia/Perth:20250508T173000
DTEND;TZID=Australia/Perth:20250508T193000
DTSTAMP:20260426T011253
CREATED:20250506T053101Z
LAST-MODIFIED:20250506T053101Z
UID:10000615-1746725400-1746732600@wbhpn.com.au
SUMMARY:WELLBEING AND SELF-CARE WORKSHOP NARROGIN
DESCRIPTION:The Wheatbelt Health Professionals Network invites health professionals to attend an\neducation evening on wellbeing and professional self care. This event will be presented\nby local Jo Drayton\, Holyoake’s Wheatbelt Suicide Prevention Coordinator. Jo has\nworked in primary mental health and suicide prevention for more than twenty years.\nThis event is FREE for all members of the Wheatbelt Health Professionals Network –\nVisit wbhpn.com.au/network to join as a member (membership is free).\nFor more information\, please email WBHPN
URL:https://wbhpn.com.au/event/wellbeing-and-self-care-workshop-narrogin/
LOCATION:Narrogin\, Narrogin\, WA\, 6312\, Australia
CATEGORIES:Health
ATTACH;FMTTYPE=image/png:https://wbhpn.com.au/wp-content/uploads/2025/05/WBHPN_Wellbeing_Self-Care_Narrogin-9-Apr_FB_event_image_430x225px.png
END:VEVENT
BEGIN:VEVENT
DTSTART;TZID=Australia/Perth:20250409T173000
DTEND;TZID=Australia/Perth:20250409T193000
DTSTAMP:20260426T011253
CREATED:20250310T043021Z
LAST-MODIFIED:20250310T043058Z
UID:10000605-1744219800-1744227000@wbhpn.com.au
SUMMARY:Wellbeing & Self-Care Workshop Narrogin
DESCRIPTION:The Wheatbelt Health Professionals Network invites health professionals to attend an\neducation evening on wellbeing and professional self care. This event will be presented\nby local Jo Drayton\, Holyoake’s Wheatbelt Suicide Prevention Coordinator. Jo has\nworked in primary mental health and suicide prevention for more than twenty years.
URL:https://wbhpn.com.au/event/8770/
CATEGORIES:Health
ATTACH;FMTTYPE=image/png:https://wbhpn.com.au/wp-content/uploads/2025/03/WBHPN_Wellbeing_Self-Care_Narrogin-9-Apr_FB_event_image_430x225px.png
END:VEVENT
BEGIN:VEVENT
DTSTART;TZID=Australia/Perth:20250408T173000
DTEND;TZID=Australia/Perth:20250408T193000
DTSTAMP:20260426T011253
CREATED:20250327T072519Z
LAST-MODIFIED:20250327T072519Z
UID:10000608-1744133400-1744140600@wbhpn.com.au
SUMMARY:Moora Networking Event
DESCRIPTION:Tuesday 8 April 2025 | 5.30pm–7.30pm\nLimited places. Light refreshments provided. (THIS IS A TICKETED EVENT).\nJeanne d’Moore Café\, 103 Gardiner Street\, Moora\nRegistrations are essential\, visit:\nruralhealthwest.eventsair.com/wbhpn080425n-ma/reg \nThe Wheatbelt Health Professionals Network invite health professionals from Moora and surrounds\nto a networking event at Jeanne d’Moore Café in Moora. Come down with the family and enjoy\na relaxed evening with some light refreshments and catch up with colleagues and friends.\nThis event is FREE for all members of the Wheatbelt Health Professionals Network – Visit\nwbhpn.com.au/network to join as a member (membership is free). For more\ninformation\, please email WBHPN Regional Program Coordinator Anna McPhee\nat anna.mcphee@wbhpn.com.au
URL:https://wbhpn.com.au/event/moora-networking-event/
LOCATION:Moora
ATTACH;FMTTYPE=image/png:https://wbhpn.com.au/wp-content/uploads/2025/03/WBHPN_Moora_Networking_Event-8April_FB_event_image_430x225px.png
END:VEVENT
BEGIN:VEVENT
DTSTART;TZID=Australia/Perth:20250402T173000
DTEND;TZID=Australia/Perth:20250402T193000
DTSTAMP:20260426T011253
CREATED:20250327T072146Z
LAST-MODIFIED:20250327T072146Z
UID:10000607-1743615000-1743622200@wbhpn.com.au
SUMMARY:Jurien Bay Sundowner
DESCRIPTION:Wednesday 2 April 2025 | 5.30pm–7.30pm\nLimited places. Light refreshments provided. (THIS IS A TICKETED EVENT).\nJurien Bay Beach Café\, corner Roberts and Heaton Streets\, Jurien Bay\nRegistrations are essential\, visit:\nruralhealthwest.eventsair.com/wbhpn020425n-jb/reg \nThe Wheatbelt Health Professionals Network invites health professionals from Jurien Bay\nand surrounds to a networking event at the Jurien Bay Beach Café. Come down with the\nfamily and enjoy a relaxed evening and catch up with colleagues and friends.\nThis event is FREE for all members of the Wheatbelt Health Professionals Network\n– Visit wbhpn.com.au/network to join as a member (membership is free).\nFor more information\, please email WBHPN Regional Program Coordinator Anna McPhee\nat anna.mcphee@wbhpn.com.au
URL:https://wbhpn.com.au/event/jurien-bay-sundowner/
LOCATION:Jurien Bay Cafe
ATTACH;FMTTYPE=image/png:https://wbhpn.com.au/wp-content/uploads/2025/03/WBHPN_Jurien_Bay_event-2April-EA_website_header_640px.png
END:VEVENT
BEGIN:VEVENT
DTSTART;TZID=Australia/Perth:20250326T173000
DTEND;TZID=Australia/Perth:20250326T193000
DTSTAMP:20260426T011253
CREATED:20250310T042836Z
LAST-MODIFIED:20250310T042836Z
UID:10000604-1743010200-1743017400@wbhpn.com.au
SUMMARY:Wellbeing & Self-Care Workshop Northam
DESCRIPTION:The Wheatbelt Health Professionals Network invites health professionals to attend an\neducation evening on wellbeing and professional self care. This event will be presented\nby local Jo Drayton\, Holyoake’s Wheatbelt Suicide Prevention Coordinator. Jo has\nworked in primary mental health and suicide prevention for more than twenty years.
URL:https://wbhpn.com.au/event/wellbeing-self-care-workshop-northam/
LOCATION:Northam
CATEGORIES:Health
ATTACH;FMTTYPE=image/png:https://wbhpn.com.au/wp-content/uploads/2025/03/WBHPN_Wellbeing_Self-Care_Northam-26Mar_FB_event_image_430x225px.png
END:VEVENT
BEGIN:VEVENT
DTSTART;TZID=Australia/Perth:20250212T173000
DTEND;TZID=Australia/Perth:20250212T193000
DTSTAMP:20260426T011253
CREATED:20250204T065949Z
LAST-MODIFIED:20250204T065949Z
UID:10000579-1739381400-1739388600@wbhpn.com.au
SUMMARY:Northam Welcome to 2025
DESCRIPTION:The Wheatbelt Health Professionals Network invites our health practitioners to our welcome\nto 2025 networking event. Come down with the family and enjoy a relaxed evening with\nsome light refreshments and catch up with colleagues and friends after the holiday season.\nThis event is FREE for all members of the Wheatbelt Health Professionals Network – Visit\nwbhpn.com.au/network to join as a member (membership is free). For more\ninformation\, please contact WBHPN Regional Program Coordinator Anna McPhee at\ncontact@wbhpn.com.au
URL:https://wbhpn.com.au/event/northam-welcome-to-2025/
LOCATION:Northam Country Club\, 15 Wood Drive\, Northam\, WA\, 6401\, Australia
CATEGORIES:Health
ATTACH;FMTTYPE=image/png:https://wbhpn.com.au/wp-content/uploads/2025/02/WBHPN_Welcome_2025_Northam-12Feb_HPN_HOME-EVENT_PAGE_SCROLLING_IMAGE_836x548px.png
END:VEVENT
BEGIN:VEVENT
DTSTART;TZID=Australia/Perth:20241121T173000
DTEND;TZID=Australia/Perth:20241121T193000
DTSTAMP:20260426T011253
CREATED:20241002T020436Z
LAST-MODIFIED:20241002T020436Z
UID:10000574-1732210200-1732217400@wbhpn.com.au
SUMMARY:Self-Care and Wellbeing Workshop Northam
DESCRIPTION:Thursday 21 November 2024\, 5.30pm – 7.30pm | WA Primary Health Alliance Buidling\, Fitzgerald St\, Northam
URL:https://wbhpn.com.au/event/self-care-and-wellbeing-workshop-northam/
LOCATION:Northam
END:VEVENT
BEGIN:VEVENT
DTSTART;TZID=Australia/Perth:20241113T173000
DTEND;TZID=Australia/Perth:20241113T193000
DTSTAMP:20260426T011253
CREATED:20241002T020316Z
LAST-MODIFIED:20241002T020316Z
UID:10000573-1731519000-1731526200@wbhpn.com.au
SUMMARY:Self-Care and Wellbeing Workshop Narrogin
DESCRIPTION:Wednesday 13 November 2024\, 5.30pm – 7.30pm | Falcon St Training Facility\, Narrogin
URL:https://wbhpn.com.au/event/self-care-and-wellbeing-workshop-narrogin/
LOCATION:Falcon Street Training Facility\, Narrogin Health Service - Falcon Street (near corner Floreat Street)\, Narrogin\, WA\, Australia
END:VEVENT
BEGIN:VEVENT
DTSTART;TZID=Australia/Perth:20241023T173000
DTEND;TZID=Australia/Perth:20241023T193000
DTSTAMP:20260426T011253
CREATED:20241002T020053Z
LAST-MODIFIED:20241002T020525Z
UID:10000572-1729704600-1729711800@wbhpn.com.au
SUMMARY:Palliative Care Workshop Northam
DESCRIPTION:Wednesday 23 October 2024\, 5.30pm – 7.30pm | WA Primary Health Alliance Buidling\, Fitzgerald St\, Northam
URL:https://wbhpn.com.au/event/palliative-care-workshop-northam/
LOCATION:Northam
END:VEVENT
BEGIN:VEVENT
DTSTART;TZID=Australia/Perth:20241022T173000
DTEND;TZID=Australia/Perth:20241022T193000
DTSTAMP:20260426T011253
CREATED:20241002T015931Z
LAST-MODIFIED:20241002T015931Z
UID:10000571-1729618200-1729625400@wbhpn.com.au
SUMMARY:Palliative Care Workshop Narrogin
DESCRIPTION:Tuesday 22 October 2024\, 5.30pm – 7.30pm | Falcon St Training Facility\, Narrogin
URL:https://wbhpn.com.au/event/palliative-care-workshop-narrogin/
LOCATION:Falcon Street Training Facility\, Narrogin Health Service - Falcon Street (near corner Floreat Street)\, Narrogin\, WA\, Australia
END:VEVENT
BEGIN:VEVENT
DTSTART;TZID=Australia/Perth:20240619T173000
DTEND;TZID=Australia/Perth:20240619T193000
DTSTAMP:20260426T011253
CREATED:20240611T031507Z
LAST-MODIFIED:20240611T031507Z
UID:10000567-1718818200-1718825400@wbhpn.com.au
SUMMARY:WBHPN Let's Reconnect Sundowner Lake Grace
DESCRIPTION:Wednesday 19 June 2024 | 5.30pm–7.30pm\nLake Grace Hotel\, 16 Stubbs Street\, Lake Grace. \nLimited places. Light refreshments provided. \nRegistrations are essential\, visit: ruralhealthwest.eventsair.com/wbhpn190624n-lg/registration     or scan the QR code (right) with your mobile phone. \nThe Wheatbelt Health Professionals Network invite health professionals from Lake Grace and surrounds to attend a networking event at the Lake Grace Hotel. Come down with the family and enjoy a relaxed evening with some light refreshments and catch up with friends and colleagues. \nThis event is FREE for all members of the Wheatbelt Health Professionals Network – Visit wbhpn.com.au/network to join as a member (membership is free). For more information\, please email WBHPN Regional Program Officer Anna McPhee at anna.mcphee@wbhpn.com.au
URL:https://wbhpn.com.au/event/wbhpn-lets-reconnect-sundowner-lake-grace/
LOCATION:Lake Grace Hotel\, 16 Stubbs Street\, Lake Grace\, WA\, Australia
CATEGORIES:Health
ATTACH;FMTTYPE=image/png:https://wbhpn.com.au/wp-content/uploads/2024/06/WBHPN_Lake_Grace_sundowner-19June_FB_event_image_430x225px.png
END:VEVENT
BEGIN:VEVENT
DTSTART;TZID=Australia/Perth:20240618T173000
DTEND;TZID=Australia/Perth:20240618T193000
DTSTAMP:20260426T011253
CREATED:20240611T031132Z
LAST-MODIFIED:20240611T031133Z
UID:10000566-1718731800-1718739000@wbhpn.com.au
SUMMARY:WBHPN Let's Reconnect Sundowner Merredin
DESCRIPTION:Tuesday 18 June 2024 | 5.30pm–7.30pm\nMerredin Club\, 23 Coronation Street\, Merredin. \nLimited places. Light refreshments provided. \nRegistrations are essential\, visit: ruralhealthwest.eventsair.com/wbhpn180624n-mer/registration     or scan the QR code (right) with your mobile phone. \nThe Wheatbelt Health Professionals Network invite health professionals from Merredin and surrounds to attend a networking event at the Merredin Club. Come down with the family and enjoy a relaxed evening with some light refreshments and catch up with friends and colleagues. \nThis event is FREE for all members of the Wheatbelt Health Professionals Network – Visit wbhpn.com.au/network to join as a member (membership is free). For more information\, please email WBHPN Regional Program Officer Anna McPhee at anna.mcphee@wbhpn.com.au
URL:https://wbhpn.com.au/event/wbhpn-lets-reconnect-sundowner-merredin/
LOCATION:Merredin Club\, 23 Coronation Street\, Merredin\, WA\, Australia
CATEGORIES:Health
ATTACH;FMTTYPE=image/png:https://wbhpn.com.au/wp-content/uploads/2024/06/WBHPN_Merredin_sundowner-18June_FB_event_image_430x225px.png
END:VEVENT
BEGIN:VEVENT
DTSTART;TZID=Australia/Perth:20240508T173000
DTEND;TZID=Australia/Perth:20240508T193000
DTSTAMP:20260426T011253
CREATED:20240422T013100Z
LAST-MODIFIED:20240422T013100Z
UID:10000560-1715189400-1715196600@wbhpn.com.au
SUMMARY:Wongan Hills Let's Reconnect Sundowner
DESCRIPTION:Wheatbelt Health Professionals Network – Let’s Reconnect Sundowner Wongan Hills  \n Health professionals from Wongan Hills and surrounds are invited to a let’s reconnect sundowner. \n Wednesday 08 April 2024 | 5.30pm–7.30pm \nWongan Hills Hotel (Harvest Room)\, 5 Fenton Place\, Wongan Hills \nLight refreshments provided! \n This event is FREE for all members of the Wheatbelt Health Professionals Network – Visit www.wbhpn.com.au/network to join as a member (membership is free). \nRegistrations for this event are essential; please see the attached flyer or click here to register: https://ruralhealthwest.eventsair.com/wbhpn080524n/registration/Site/Register \nWe look forward to seeing you there!
URL:https://wbhpn.com.au/event/wongan-hills-lets-reconnect-sundowner/
LOCATION:Wongan Hills Hotel\, 5 Fenton Place\, Wongan Hills\, WA\, 6603\, Australia
CATEGORIES:Health
ATTACH;FMTTYPE=image/png:https://wbhpn.com.au/wp-content/uploads/2024/04/WBHPN_Wongan_Hills_Event-8May_FB_event_image_430x225px.png
END:VEVENT
BEGIN:VEVENT
DTSTART;TZID=Australia/Perth:20240223T173000
DTEND;TZID=Australia/Perth:20240223T193000
DTSTAMP:20260426T011253
CREATED:20240207T020134Z
LAST-MODIFIED:20240220T054606Z
UID:10000534-1708709400-1708716600@wbhpn.com.au
SUMMARY:Northam Welcome to 2024
DESCRIPTION:Northam health professionals networking event\nHealth professionals from Northam and surrounds are invited to a welcome to 2024 event to connect and catch up with colleagues and friends.\nFriday 23 February 2024 | 5.30pm–7.30pm\nNortham Country Club\, 15 Wood Drive\, Northam\nCanapés and light refreshments provided!\nThis event is FREE for all members of the Wheatbelt Health Professionals Network – visit the website to join as a member (membership is free): https://wbhpn.com.au/network/\n**Registrations for this event are essential; please click here to register: \nWe look forward to seeing you there!
URL:https://wbhpn.com.au/event/northam-welcome-to-2024/
LOCATION:Northam Country Club\, 15 Wood Drive\, Northam\, WA\, 6401\, Australia
CATEGORIES:Health
ATTACH;FMTTYPE=image/png:https://wbhpn.com.au/wp-content/uploads/2024/02/Flyer-Imager-Northam-Welcome-to-2024-003.png
END:VEVENT
END:VCALENDAR