BEGIN:VCALENDAR
VERSION:2.0
PRODID:-//Wheatbelt Health Professional Network - ECPv6.15.20//NONSGML v1.0//EN
CALSCALE:GREGORIAN
METHOD:PUBLISH
X-ORIGINAL-URL:https://wbhpn.com.au
X-WR-CALDESC:Events for Wheatbelt Health Professional Network
REFRESH-INTERVAL;VALUE=DURATION:PT1H
X-Robots-Tag:noindex
X-PUBLISHED-TTL:PT1H
BEGIN:VTIMEZONE
TZID:Australia/Perth
BEGIN:STANDARD
TZOFFSETFROM:+0800
TZOFFSETTO:+0800
TZNAME:AWST
DTSTART:20210101T000000
END:STANDARD
END:VTIMEZONE
BEGIN:VEVENT
DTSTART;TZID=Australia/Perth:20220826T090000
DTEND;TZID=Australia/Perth:20220826T170000
DTSTAMP:20260426T102420
CREATED:20220722T050039Z
LAST-MODIFIED:20220722T072822Z
UID:10000446-1661504400-1661533200@wbhpn.com.au
SUMMARY:South Regional Health Research Forum
DESCRIPTION:[vc_row type=”in_container” full_screen_row_position=”middle” column_margin=”default” column_direction=”default” column_direction_tablet=”default” column_direction_phone=”default” scene_position=”center” text_color=”dark” text_align=”left” row_border_radius=”none” row_border_radius_applies=”bg” overflow=”visible” overlay_strength=”0.3″ gradient_direction=”left_to_right” shape_divider_position=”bottom” bg_image_animation=”none”][vc_column column_padding=”no-extra-padding” column_padding_tablet=”inherit” column_padding_phone=”inherit” column_padding_position=”all” column_element_spacing=”default” background_color_opacity=”1″ background_hover_color_opacity=”1″ column_shadow=”none” column_border_radius=”none” column_link_target=”_self” column_position=”default” gradient_direction=”left_to_right” overlay_strength=”0.3″ width=”1/1″ tablet_width_inherit=”default” tablet_text_alignment=”default” phone_text_alignment=”default” animation_type=”default” bg_image_animation=”none” border_type=”simple” column_border_width=”none” column_border_style=”solid”][vc_column_text]Albany Entertainment Centre\nCost: $95.00 | $75.00 for students\nIncludes: Full program\, lunch\, refreshment breaks and complimentary networking sundowner \nA local approach of targeted health research\, collaboration and action facilitates better health outcomes for regional communities.\nThis forum is an opportunity for health professionals\, community members\, consumers\, community organisations\, local government\, researchers and early investigators with an interest in research and quality improvement activities to learn about and contribute to research projects being undertaken across the southern regions of Western Australia and for clinical researchers to showcase and share their work. View the program here. \nCall for Posters – Now open\nThe South Regional Health Research Collaborative are calling for posters submission. Submitting a poster at this forum will allow you the opportunity to present an overview of your work to a wide audience\, interact with colleagues and interested parties\, network\, share ideas and develop potential research collaborations.  View the Call for Posters information here.\nThe forum will provide you with the opportunity to learn\, collaborate\, contribute and network.  \nPre Forum Workshop\nIntroduction to Consumer and Community Involvement in Research Workshop\nDate: Thursday 25 August 2022\nVenue: The Hilton Albany\, 3 Toll Place\, Albany WA 6330\nTime: 12 noon to 4.30pm (including lunch and afternoon tea)\nCost: $40.00 GST inclusive | Open to Forum delegates only \nNetworking Sundowner\nIn partnership with the Great Southern Health Professionals Networks\, a complimentary networking event will close out the forum.\nVenue: Albany Entertainment Centre\nTime: 4.30pm – 6.30pm\nCost: FREE \nRegistrations now open\nOnline registration:  https://ruralhealthwest.eventsair.com/2022-srhrf/[/vc_column_text][/vc_column][/vc_row]
URL:https://wbhpn.com.au/event/south-regional-health-research-forum/
LOCATION:Albany Entertainment Centre\, 2 Toll Pl\, Albany\, WA\, 6330\, Australia
CATEGORIES:Health
ATTACH;FMTTYPE=image/jpeg:https://wbhpn.com.au/wp-content/uploads/2022/07/SRHRF-2022-HPN-Event-Scrolling-750x280px.jpg
END:VEVENT
END:VCALENDAR