BEGIN:VCALENDAR
VERSION:2.0
PRODID:-//Wheatbelt Health Professional Network - ECPv6.15.20//NONSGML v1.0//EN
CALSCALE:GREGORIAN
METHOD:PUBLISH
X-WR-CALNAME:Wheatbelt Health Professional Network
X-ORIGINAL-URL:https://wbhpn.com.au
X-WR-CALDESC:Events for Wheatbelt Health Professional Network
REFRESH-INTERVAL;VALUE=DURATION:PT1H
X-Robots-Tag:noindex
X-PUBLISHED-TTL:PT1H
BEGIN:VTIMEZONE
TZID:Australia/Perth
BEGIN:STANDARD
TZOFFSETFROM:+0800
TZOFFSETTO:+0800
TZNAME:AWST
DTSTART:20200101T000000
END:STANDARD
END:VTIMEZONE
BEGIN:VEVENT
DTSTART;TZID=Australia/Perth:20220824T080000
DTEND;TZID=Australia/Perth:20220825T170000
DTSTAMP:20260426T102240
CREATED:20220720T083547Z
LAST-MODIFIED:20220720T083547Z
UID:10000445-1661328000-1661446800@wbhpn.com.au
SUMMARY:Dowerin Field Day
DESCRIPTION:Growing Industry\, Seeding Connections\, Cultivating Community\nThe Dowerin GWN7 Machinery Field Days attracts around 700 exhibitors annually showcasing agricultural-related and general interest products and services to more than 24\,000 visitors. \nWith a proud 58-year history the Field Days is a vital information highway and one stop shop that celebrates agricultural and community prosperity.
URL:https://wbhpn.com.au/event/dowerin-field-day/
LOCATION:Dowerin\, Dowerin\, WA\, 6461\, Australia
END:VEVENT
BEGIN:VEVENT
DTSTART;TZID=Australia/Perth:20210327T080000
DTEND;TZID=Australia/Perth:20210327T170000
DTSTAMP:20260426T102240
CREATED:20210315T063335Z
LAST-MODIFIED:20210315T063335Z
UID:10000344-1616832000-1616864400@wbhpn.com.au
SUMMARY:Dowerin Triathlon
DESCRIPTION:
URL:https://wbhpn.com.au/event/dowerin-triathlon/
LOCATION:Dowerin\, Dowerin\, WA\, 6461\, Australia
END:VEVENT
END:VCALENDAR