BEGIN:VCALENDAR
VERSION:2.0
PRODID:-//Wheatbelt Health Professional Network - ECPv6.15.20//NONSGML v1.0//EN
CALSCALE:GREGORIAN
METHOD:PUBLISH
X-ORIGINAL-URL:https://wbhpn.com.au
X-WR-CALDESC:Events for Wheatbelt Health Professional Network
REFRESH-INTERVAL;VALUE=DURATION:PT1H
X-Robots-Tag:noindex
X-PUBLISHED-TTL:PT1H
BEGIN:VTIMEZONE
TZID:Australia/Perth
BEGIN:STANDARD
TZOFFSETFROM:+0800
TZOFFSETTO:+0800
TZNAME:AWST
DTSTART:20250101T000000
END:STANDARD
END:VTIMEZONE
BEGIN:VEVENT
DTSTART;TZID=Australia/Perth:20260212T090000
DTEND;TZID=Australia/Perth:20260212T150000
DTSTAMP:20260426T045706
CREATED:20260113T083408Z
LAST-MODIFIED:20260113T083408Z
UID:10000634-1770886800-1770908400@wbhpn.com.au
SUMMARY:WOUND CARE WORKSHOP JURIEN BAY
DESCRIPTION:Thursday 12 February 2026 | 9.00am–3.00pm\nLIMITED PLACES. Morning tea and lunch will be provided. (THIS IS A TICKETED EVENT).\nCost: $70 full day\nRegistrations open at 8.45am\nStart 9.00am\, finishing at 3.00pm\nJurien Bay Health Campus (Conference room)\, 23 Whitfield Road\, Jurien Bay\nRegistrations are essential\, visit: https://ruralhealthwest.eventsair.com/wbhpn120226e-jb/reg/Site/Register \nPresented by Beth Sperring\, Clinical Nurse Consultant. Topics for the study day will include wound\nhealing and assessment; identification of acute and chronic wound infection and treatment; biofilm based\nwound management; wound hygiene; dressing selection; traumatic wounds; plastic surgery considerations; and\ncase studies. Also discussed will be future trends in wound management. This workshop will include a wound\ndebridement session at the end of the day.
URL:https://wbhpn.com.au/event/wound-care-workshop-jurien-bay/
LOCATION:Jurien Bay Health Campus\, Jurien Bay\, WA\, Australia
CATEGORIES:Health
ATTACH;FMTTYPE=image/png:https://wbhpn.com.au/wp-content/uploads/2026/01/WBHPN_Wound_Care-Jurien_Bay-4Dec_FB_event_image_430x225px.png
END:VEVENT
END:VCALENDAR