BEGIN:VCALENDAR
VERSION:2.0
PRODID:-//Wheatbelt Health Professional Network - ECPv6.15.20//NONSGML v1.0//EN
CALSCALE:GREGORIAN
METHOD:PUBLISH
X-ORIGINAL-URL:https://wbhpn.com.au
X-WR-CALDESC:Events for Wheatbelt Health Professional Network
REFRESH-INTERVAL;VALUE=DURATION:PT1H
X-Robots-Tag:noindex
X-PUBLISHED-TTL:PT1H
BEGIN:VTIMEZONE
TZID:Australia/Perth
BEGIN:STANDARD
TZOFFSETFROM:+0800
TZOFFSETTO:+0800
TZNAME:AWST
DTSTART:20210101T000000
END:STANDARD
END:VTIMEZONE
BEGIN:VEVENT
DTSTART;TZID=Australia/Perth:20260211T173000
DTEND;TZID=Australia/Perth:20260211T193000
DTSTAMP:20260426T062134
CREATED:20260113T082849Z
LAST-MODIFIED:20260113T082849Z
UID:10000633-1770831000-1770838200@wbhpn.com.au
SUMMARY:WELCOME TO 2026 SUNDOWNER NORTHAM
DESCRIPTION:Wednesday 11 February 2026 | 5.30pm–7.30pm\nLight refreshments provided. Places are limited. (THIS IS A TICKETED EVENT).\nNortham Country Club\, 15 Wood Drive\, Northam\nRegistrations are essential\, visit:\nruralhealthwest.eventsair.com/wbhpn110226n-nor/reg \nThe Wheatbelt Health Professionals Network invites our health practitioners to our welcome\nto 2026 networking event. Come down with the family and enjoy a relaxed evening with\nsome light refreshments and catch up with colleagues and friends after the holiday season.
URL:https://wbhpn.com.au/event/welcome-to-2026-sundowner-northam/
LOCATION:Northam Country Club\, 15 Wood Drive\, Northam\, WA\, 6401\, Australia
CATEGORIES:Health
ATTACH;FMTTYPE=image/png:https://wbhpn.com.au/wp-content/uploads/2026/01/WBHPN_Northam_Welcome_2026-11Feb26_FB_event_image_430x225px.png
END:VEVENT
BEGIN:VEVENT
DTSTART;TZID=Australia/Perth:20250212T173000
DTEND;TZID=Australia/Perth:20250212T193000
DTSTAMP:20260426T062135
CREATED:20250204T065949Z
LAST-MODIFIED:20250204T065949Z
UID:10000579-1739381400-1739388600@wbhpn.com.au
SUMMARY:Northam Welcome to 2025
DESCRIPTION:The Wheatbelt Health Professionals Network invites our health practitioners to our welcome\nto 2025 networking event. Come down with the family and enjoy a relaxed evening with\nsome light refreshments and catch up with colleagues and friends after the holiday season.\nThis event is FREE for all members of the Wheatbelt Health Professionals Network – Visit\nwbhpn.com.au/network to join as a member (membership is free). For more\ninformation\, please contact WBHPN Regional Program Coordinator Anna McPhee at\ncontact@wbhpn.com.au
URL:https://wbhpn.com.au/event/northam-welcome-to-2025/
LOCATION:Northam Country Club\, 15 Wood Drive\, Northam\, WA\, 6401\, Australia
CATEGORIES:Health
ATTACH;FMTTYPE=image/png:https://wbhpn.com.au/wp-content/uploads/2025/02/WBHPN_Welcome_2025_Northam-12Feb_HPN_HOME-EVENT_PAGE_SCROLLING_IMAGE_836x548px.png
END:VEVENT
BEGIN:VEVENT
DTSTART;TZID=Australia/Perth:20240223T173000
DTEND;TZID=Australia/Perth:20240223T193000
DTSTAMP:20260426T062135
CREATED:20240207T020134Z
LAST-MODIFIED:20240220T054606Z
UID:10000534-1708709400-1708716600@wbhpn.com.au
SUMMARY:Northam Welcome to 2024
DESCRIPTION:Northam health professionals networking event\nHealth professionals from Northam and surrounds are invited to a welcome to 2024 event to connect and catch up with colleagues and friends.\nFriday 23 February 2024 | 5.30pm–7.30pm\nNortham Country Club\, 15 Wood Drive\, Northam\nCanapés and light refreshments provided!\nThis event is FREE for all members of the Wheatbelt Health Professionals Network – visit the website to join as a member (membership is free): https://wbhpn.com.au/network/\n**Registrations for this event are essential; please click here to register: \nWe look forward to seeing you there!
URL:https://wbhpn.com.au/event/northam-welcome-to-2024/
LOCATION:Northam Country Club\, 15 Wood Drive\, Northam\, WA\, 6401\, Australia
CATEGORIES:Health
ATTACH;FMTTYPE=image/png:https://wbhpn.com.au/wp-content/uploads/2024/02/Flyer-Imager-Northam-Welcome-to-2024-003.png
END:VEVENT
BEGIN:VEVENT
DTSTART;TZID=Australia/Perth:20220722T180000
DTEND;TZID=Australia/Perth:20220722T233000
DTSTAMP:20260426T062135
CREATED:20220720T083017Z
LAST-MODIFIED:20220720T083017Z
UID:10000441-1658512800-1658532600@wbhpn.com.au
SUMMARY:Eclipse Brewing Co Wheatbelt Launch Party
DESCRIPTION:
URL:https://wbhpn.com.au/event/eclipse-brewing-co-wheatbelt-launch-party/
LOCATION:Northam Country Club\, 15 Wood Drive\, Northam\, WA\, 6401\, Australia
END:VEVENT
END:VCALENDAR